BEGIN:VCALENDAR
VERSION:2.0
PRODID:-//TYPO3/NONSGML Calendarize//EN
BEGIN:VEVENT
UID:calendarize-eroeffnung-saison-2026
DTSTAMP:20260419T231751Z
DTSTART:20260501T140000Z
DTEND:20260501T180000Z
SUMMARY:Eröffnung Saison 2026
DESCRIPTION:
X-ALT-DESC;FMTTYPE=text/html:
LOCATION:Gasthaus Suld\, Aeschi b. Spiez
END:VEVENT
END:VCALENDAR
